BEGIN:VCALENDAR
PRODID:-//TicketWeb//iCal4j 1.0//EN
VERSION:2.0
CALSCALE:GREGORIAN
BEGIN:VEVENT
DTSTAMP:20260420T101301Z
DTSTART:20250623T100000
DTEND:20260531T100000
SUMMARY:BAPTA Membership
UID:13829814@www.ticketweb.com
TZID:America/Los_Angeles
LAST-MODIFIED:20260420T101302Z
LOCATION:Membership\, Northern\, CA
DESCRIPTION:\nAdditional info and tickets : http://www.ticketweb.com/event/bapta-membership-membership-tickets/13829814
URL:http://www.ticketweb.com/event/bapta-membership-membership-tickets/13829814
END:VEVENT
BEGIN:VEVENT
DTSTAMP:20260420T101302Z
DTSTART:20250701T020000
DTEND:20260701T020000
SUMMARY:Different Stages Donations
UID:13878374@www.ticketweb.com
TZID:America/Chicago
LAST-MODIFIED:20260420T101302Z
LOCATION:Various Locations in Austin\, Austin\, TX
DESCRIPTION:\nAdditional info and tickets : http://www.ticketweb.com/event/different-stages-donations-various-locations-in-austin-tickets/13878374
URL:http://www.ticketweb.com/event/different-stages-donations-various-locations-in-austin-tickets/13878374
END:VEVENT
BEGIN:VEVENT
DTSTAMP:20260420T101302Z
DTSTART:20251231T140000
DTEND:20271231T160000
SUMMARY:Ride and Dine with us! Thriller Speedboat Tours
UID:13819043@www.ticketweb.com
TZID:America/New_York
LAST-MODIFIED:20260420T101303Z
LOCATION:Hard Rock Cafe - Miami\, Miami\, FL
DESCRIPTION:\nAdditional info and tickets : http://www.ticketweb.com/event/ride-and-dine-with-us-hard-rock-cafe-tickets/13819043
URL:http://www.ticketweb.com/event/ride-and-dine-with-us-hard-rock-cafe-tickets/13819043
END:VEVENT
BEGIN:VEVENT
DTSTAMP:20260420T101303Z
DTSTART:20260101T140000
DTEND:20261231T020000
SUMMARY:I'm On the List! + 1 (Entry to all shows at the Blue Moon in 2026 for you and a guest and your first drink is on us!)
UID:14720333@www.ticketweb.com
TZID:America/Chicago
LAST-MODIFIED:20260420T101303Z
LOCATION:Blue Moon Saloon\, Lafayette\, LA
DESCRIPTION:\nAdditional info and tickets : http://www.ticketweb.com/event/im-on-the-list-blue-moon-saloon-tickets/14720333
URL:http://www.ticketweb.com/event/im-on-the-list-blue-moon-saloon-tickets/14720333
END:VEVENT
BEGIN:VEVENT
DTSTAMP:20260420T101303Z
DTSTART:20260101T140000
DTEND:20261231T140000
SUMMARY:BLUE FRIDAY SPECIAL! Entry to All Shows at the Blue Moon for 2026!
UID:14720223@www.ticketweb.com
TZID:America/Chicago
LAST-MODIFIED:20260420T101303Z
LOCATION:Blue Moon Saloon\, Lafayette\, LA
DESCRIPTION:\nAdditional info and tickets : http://www.ticketweb.com/event/blue-friday-special-entry-to-blue-moon-saloon-tickets/14720223
URL:http://www.ticketweb.com/event/blue-friday-special-entry-to-blue-moon-saloon-tickets/14720223
END:VEVENT
BEGIN:VEVENT
DTSTAMP:20260420T101303Z
DTSTART:20260326T180000
DTEND:20260726T020000
SUMMARY:Flex Ticket
UID:14818343@www.ticketweb.com
TZID:America/New_York
LAST-MODIFIED:20260420T101303Z
LOCATION:Off The Rails Music Venue\, Worcester\, MA
DESCRIPTION:\nAdditional info and tickets : http://www.ticketweb.com/event/flex-ticket-off-the-rails-music-venue-tickets/14818343
URL:http://www.ticketweb.com/event/flex-ticket-off-the-rails-music-venue-tickets/14818343
END:VEVENT
BEGIN:VEVENT
DTSTAMP:20260420T101303Z
DTSTART:20260401T130500
DTEND:20260430T180000
SUMMARY:Vizcaya Museum & Gardens (Valid for 1 visit - Expires 4/30/26)
UID:14825933@www.ticketweb.com
TZID:America/New_York
LAST-MODIFIED:20260420T101303Z
LOCATION:Vizcaya Museum and Gardens\, Miami\, FL
DESCRIPTION:\nAdditional info and tickets : http://www.ticketweb.com/event/vizcaya-museum-gardens-valid-vizcaya-museum-and-gardens-tickets/14825933
URL:http://www.ticketweb.com/event/vizcaya-museum-gardens-valid-vizcaya-museum-and-gardens-tickets/14825933
END:VEVENT
BEGIN:VEVENT
DTSTAMP:20260420T101303Z
DTSTART:20260401T130500
DTEND:20260430T180000
SUMMARY:Museum of Contemporary Art North Miami (MOCA)  (Valid for 1 visit - Expires 3/31/2026)
UID:14826173@www.ticketweb.com
TZID:America/New_York
LAST-MODIFIED:20260420T101303Z
LOCATION:Museum of Contemporary Art\, Miami\, FL
DESCRIPTION:\nAdditional info and tickets : http://www.ticketweb.com/event/museum-of-contemporary-art-north-museum-of-contemporary-art-tickets/14826173
URL:http://www.ticketweb.com/event/museum-of-contemporary-art-north-museum-of-contemporary-art-tickets/14826173
END:VEVENT
BEGIN:VEVENT
DTSTAMP:20260420T101303Z
DTSTART:20260401T130500
DTEND:20260430T180000
SUMMARY:Fairchild Tropical Botanic Garden (Valid for 1 visit - Expires 4/30/2026)
UID:14826273@www.ticketweb.com
TZID:America/New_York
LAST-MODIFIED:20260420T101303Z
LOCATION:Fairchild Tropical Botanic Garden\, Coral Gables\, FL
DESCRIPTION:\nAdditional info and tickets : http://www.ticketweb.com/event/fairchild-tropical-botanic-garden-valid-fairchild-tropical-botanic-garden-tickets/14826273
URL:http://www.ticketweb.com/event/fairchild-tropical-botanic-garden-valid-fairchild-tropical-botanic-garden-tickets/14826273
END:VEVENT
BEGIN:VEVENT
DTSTAMP:20260420T101303Z
DTSTART:20260401T130500
DTEND:20260430T180000
SUMMARY:Black Police Precinct and Courthouse Museum (Valid for 1 visit - Expires 4/30/2026)
UID:14826163@www.ticketweb.com
TZID:America/New_York
LAST-MODIFIED:20260420T101303Z
LOCATION:Black Police Precinct and Courthouse Museum\, Miami\, FL
DESCRIPTION:\nAdditional info and tickets : http://www.ticketweb.com/event/black-police-precinct-and-courthouse-black-police-precinct-and-courthouse-tickets/14826163
URL:http://www.ticketweb.com/event/black-police-precinct-and-courthouse-black-police-precinct-and-courthouse-tickets/14826163
END:VEVENT
BEGIN:VEVENT
DTSTAMP:20260420T101303Z
DTSTART:20260401T130500
DTEND:20260430T180000
SUMMARY:Frost Museum of Science (Valid for 1 visit - Expires 4/30/26)
UID:14825993@www.ticketweb.com
TZID:America/New_York
LAST-MODIFIED:20260420T101303Z
LOCATION:Phillip and Patricia Frost Museum of Science\, Miami\, FL
DESCRIPTION:\nAdditional info and tickets : http://www.ticketweb.com/event/frost-museum-of-science-valid-phillip-and-patricia-frost-museum-tickets/14825993
URL:http://www.ticketweb.com/event/frost-museum-of-science-valid-phillip-and-patricia-frost-museum-tickets/14825993
END:VEVENT
BEGIN:VEVENT
DTSTAMP:20260420T101303Z
DTSTART:20260401T130500
DTEND:20260430T180000
SUMMARY:The Bass Museum of Art (Valid for 1 visit - Expires 4/30/26)
UID:14825953@www.ticketweb.com
TZID:America/New_York
LAST-MODIFIED:20260420T101303Z
LOCATION:The Bass\, Miami Beach\, FL
DESCRIPTION:\nAdditional info and tickets : http://www.ticketweb.com/event/the-bass-museum-of-art-the-bass-tickets/14825953
URL:http://www.ticketweb.com/event/the-bass-museum-of-art-the-bass-tickets/14825953
END:VEVENT
BEGIN:VEVENT
DTSTAMP:20260420T101303Z
DTSTART:20260401T130500
DTEND:20260430T180000
SUMMARY:HistoryMiami Museum  (Valid for 1 visit - Expires 4/30/26)
UID:14826013@www.ticketweb.com
TZID:America/New_York
LAST-MODIFIED:20260420T101303Z
LOCATION:HistoryMiami Museum\, Miami\, FL
DESCRIPTION:\nAdditional info and tickets : http://www.ticketweb.com/event/historymiami-museum-valid-for-historymiami-museum-tickets/14826013
URL:http://www.ticketweb.com/event/historymiami-museum-valid-for-historymiami-museum-tickets/14826013
END:VEVENT
BEGIN:VEVENT
DTSTAMP:20260420T101303Z
DTSTART:20260401T130500
DTEND:20260430T180000
SUMMARY:Coral Gables Museum (Valid for 1 visit - Expires 4/30/2026)
UID:14826203@www.ticketweb.com
TZID:America/New_York
LAST-MODIFIED:20260420T101303Z
LOCATION:Coral Gables Museum\, Coral Gables\, FL
DESCRIPTION:\nAdditional info and tickets : http://www.ticketweb.com/event/coral-gables-museum-valid-for-coral-gables-museum-tickets/14826203
URL:http://www.ticketweb.com/event/coral-gables-museum-valid-for-coral-gables-museum-tickets/14826203
END:VEVENT
BEGIN:VEVENT
DTSTAMP:20260420T101303Z
DTSTART:20260401T130500
DTEND:20260430T180000
SUMMARY:Freedom Tower Miami (Valid for 1 visit - Expires 4/30/2026)
UID:14826043@www.ticketweb.com
TZID:America/New_York
LAST-MODIFIED:20260420T101303Z
LOCATION:Freedom Tower\, Miami\, FL
DESCRIPTION:\nAdditional info and tickets : http://www.ticketweb.com/event/freedom-tower-miami-valid-for-freedom-tower-tickets/14826043
URL:http://www.ticketweb.com/event/freedom-tower-miami-valid-for-freedom-tower-tickets/14826043
END:VEVENT
BEGIN:VEVENT
DTSTAMP:20260420T101303Z
DTSTART:20260401T130500
DTEND:20260430T180000
SUMMARY:Zoo Miami - Valid for 1 visit - Expires 4/30/26. Redeem at any ticket window.
UID:14825923@www.ticketweb.com
TZID:America/New_York
LAST-MODIFIED:20260420T101303Z
LOCATION:Zoo Miami\, Miami\, FL
DESCRIPTION:\nAdditional info and tickets : http://www.ticketweb.com/event/zoo-miami-valid-zoo-miami-tickets/14825923
URL:http://www.ticketweb.com/event/zoo-miami-valid-zoo-miami-tickets/14825923
END:VEVENT
BEGIN:VEVENT
DTSTAMP:20260420T101303Z
DTSTART:20260401T130500
DTEND:20260430T180000
SUMMARY:Pérez Art Museum Miami (Valid for 1 visit - Expires 4/30/2026)
UID:14826213@www.ticketweb.com
TZID:America/New_York
LAST-MODIFIED:20260420T101303Z
LOCATION:Perez Art Museum Miami\, Miami\, FL
DESCRIPTION:\nAdditional info and tickets : http://www.ticketweb.com/event/prez-art-museum-miami-valid-perez-art-museum-miami-tickets/14826213
URL:http://www.ticketweb.com/event/prez-art-museum-miami-valid-perez-art-museum-miami-tickets/14826213
END:VEVENT
BEGIN:VEVENT
DTSTAMP:20260420T101303Z
DTSTART:20260401T130500
DTEND:20260430T180000
SUMMARY:Rubell Musem (Valid for 1 visit - Expires 4/30/26)
UID:14825963@www.ticketweb.com
TZID:America/New_York
LAST-MODIFIED:20260420T101303Z
LOCATION:Rubell Museum\, Miami\, FL
DESCRIPTION:\nAdditional info and tickets : http://www.ticketweb.com/event/rubell-musem-valid-for-1-rubell-museum-tickets/14825963
URL:http://www.ticketweb.com/event/rubell-musem-valid-for-1-rubell-museum-tickets/14825963
END:VEVENT
BEGIN:VEVENT
DTSTAMP:20260420T101303Z
DTSTART:20260405T220000
DTEND:20260426T233000
SUMMARY:Shodo (15+)
UID:14792303@www.ticketweb.ca
TZID:America/Toronto
LAST-MODIFIED:20260420T101303Z
LOCATION:Japanese Canadian Cultural Centre\, Toronto\, ON
DESCRIPTION:\nAdditional info and tickets : http://www.ticketweb.ca/event/shodo-15-japanese-canadian-cultural-centre-tickets/14792303
URL:http://www.ticketweb.ca/event/shodo-15-japanese-canadian-cultural-centre-tickets/14792303
END:VEVENT
BEGIN:VEVENT
DTSTAMP:20260420T101303Z
DTSTART:20260419T220000
DTEND:20260420T023000
SUMMARY:ALEKS SYNTEK - 35 ANNIVERSARY
UID:13969464@www.ticketweb.com
TZID:America/Denver
LAST-MODIFIED:20260420T101304Z
LOCATION:Stampede\, Aurora\, CO
DESCRIPTION:\nAdditional info and tickets : http://www.ticketweb.com/event/aleks-syntek-35-stampede-tickets/13969464
URL:http://www.ticketweb.com/event/aleks-syntek-35-stampede-tickets/13969464
END:VEVENT
BEGIN:VEVENT
DTSTAMP:20260420T101304Z
DTSTART:20260420T100000
DTEND:20260420T140000
SUMMARY:Ride and Dine! Hard Rock Cafe Miami and Big Bus Tours Miami
UID:14042944@www.ticketweb.com
TZID:America/New_York
LAST-MODIFIED:20260420T101304Z
LOCATION:Hard Rock Cafe - Miami\, Miami\, FL
DESCRIPTION:\nAdditional info and tickets : http://www.ticketweb.com/event/ride-and-dine-hard-rock-hard-rock-cafe-tickets/14042944
URL:http://www.ticketweb.com/event/ride-and-dine-hard-rock-hard-rock-cafe-tickets/14042944
END:VEVENT
BEGIN:VEVENT
DTSTAMP:20260420T101304Z
DTSTART:20260420T110000
DTEND:20260421T023000
SUMMARY:The Wildmans 8:30-11:30 w/ Max Norton 7-8pm!
UID:14807683@www.ticketweb.com
TZID:America/New_York
LAST-MODIFIED:20260420T101304Z
LOCATION:Lucinda's\, New York\, NY
DESCRIPTION:\nAdditional info and tickets : http://www.ticketweb.com/event/the-wildmans-830-1130-w-lucindas-tickets/14807683
URL:http://www.ticketweb.com/event/the-wildmans-830-1130-w-lucindas-tickets/14807683
END:VEVENT
BEGIN:VEVENT
DTSTAMP:20260420T101304Z
DTSTART:20260420T210000
DTEND:20260420T210000
SUMMARY:A Play A Pie & A Pint - Off the Rails
UID:13994444@www.ticketweb.uk
TZID:Europe/London
LAST-MODIFIED:20260420T101304Z
LOCATION:Oran Mor\, Glasgow\, 
DESCRIPTION:\nAdditional info and tickets : http://www.ticketweb.uk/event/a-play-a-pie-oran-mor-tickets/13994444
URL:http://www.ticketweb.uk/event/a-play-a-pie-oran-mor-tickets/13994444
END:VEVENT
BEGIN:VEVENT
DTSTAMP:20260420T101304Z
DTSTART:20260420T123000
DTEND:20260420T200000
SUMMARY:Casa Loma General Admission
UID:14136934@www.ticketweb.ca
TZID:America/Toronto
LAST-MODIFIED:20260420T101304Z
LOCATION:Casa Loma\, Toronto\, ON
DESCRIPTION:\nNOT VALID FOR SPECIAL PROGRAMMING/EVENTS \nAdditional info and tickets : http://www.ticketweb.ca/event/casa-loma-general-admission-casa-loma-tickets/14136934
URL:http://www.ticketweb.ca/event/casa-loma-general-admission-casa-loma-tickets/14136934
END:VEVENT
BEGIN:VEVENT
DTSTAMP:20260420T101304Z
DTSTART:20260420T140000
DTEND:20260420T160000
SUMMARY:Ride and Dine with us! Thriller Speedboat Tours
UID:14037784@www.ticketweb.com
TZID:America/New_York
LAST-MODIFIED:20260420T101304Z
LOCATION:Hard Rock Cafe - Miami\, Miami\, FL
DESCRIPTION:\nAdditional info and tickets : http://www.ticketweb.com/event/ride-and-dine-with-us-hard-rock-cafe-tickets/14037784
URL:http://www.ticketweb.com/event/ride-and-dine-with-us-hard-rock-cafe-tickets/14037784
END:VEVENT
BEGIN:VEVENT
DTSTAMP:20260420T101304Z
DTSTART:20260420T143000
DTEND:20260420T143000
SUMMARY:Bluebird On 3rd  featuring Adam Hambrick \,  Caylee Hammack &  Justin Klump with Jacob Rice &  Piper Madison
UID:14152554@www.ticketweb.com
TZID:America/Chicago
LAST-MODIFIED:20260420T101304Z
LOCATION:3rd and Lindsley\, Nashville\, TN
DESCRIPTION:\nAdditional info and tickets : http://www.ticketweb.com/event/bluebird-on-3rd-adam-3rd-and-lindsley-tickets/14152554
URL:http://www.ticketweb.com/event/bluebird-on-3rd-adam-3rd-and-lindsley-tickets/14152554
END:VEVENT
BEGIN:VEVENT
DTSTAMP:20260420T101304Z
DTSTART:20260420T143000
DTEND:20260420T143000
SUMMARY:Bluebird on 3rd (located at 3rd & Lindsley Bar & Grill - Downtown Nashville)
UID:14798913@www.ticketweb.com
TZID:America/Chicago
LAST-MODIFIED:20260420T101304Z
LOCATION:3rd and Lindsley\, Nashville\, TN
DESCRIPTION:\nAdditional info and tickets : http://www.ticketweb.com/event/bluebird-on-3rd-located-at-3rd-and-lindsley-tickets/14798913
URL:http://www.ticketweb.com/event/bluebird-on-3rd-located-at-3rd-and-lindsley-tickets/14798913
END:VEVENT
BEGIN:VEVENT
DTSTAMP:20260420T101304Z
DTSTART:20260421T030000
DTEND:20260421T070000
SUMMARY:SEAHAVEN\, Carsick
UID:14723633@www.ticketweb.uk
TZID:Europe/London
LAST-MODIFIED:20260420T101304Z
LOCATION:The Bodega\, Nottingham\, 
DESCRIPTION:\nAdditional info and tickets : http://www.ticketweb.uk/event/seahaven-carsick-the-bodega-tickets/14723633
URL:http://www.ticketweb.uk/event/seahaven-carsick-the-bodega-tickets/14723633
END:VEVENT
BEGIN:VEVENT
DTSTAMP:20260420T101304Z
DTSTART:20260421T030000
DTEND:20260421T063000
SUMMARY:The Nujabes Experience
UID:14067164@www.ticketweb.uk
TZID:Europe/London
LAST-MODIFIED:20260420T101304Z
LOCATION:Jazz Cafe\, London\, 
DESCRIPTION:\n+ Special Guests \nAdditional info and tickets : http://www.ticketweb.uk/event/the-nujabes-experience-jazz-cafe-tickets/14067164
URL:http://www.ticketweb.uk/event/the-nujabes-experience-jazz-cafe-tickets/14067164
END:VEVENT
BEGIN:VEVENT
DTSTAMP:20260420T101304Z
DTSTART:20260421T030000
DTEND:20260421T063000
SUMMARY:The Nujabes Experience - Restaurant
UID:14067174@www.ticketweb.uk
TZID:Europe/London
LAST-MODIFIED:20260420T101304Z
LOCATION:Jazz Cafe\, London\, 
DESCRIPTION:\nAdditional info and tickets : http://www.ticketweb.uk/event/the-nujabes-experience-jazz-cafe-tickets/14067174
URL:http://www.ticketweb.uk/event/the-nujabes-experience-jazz-cafe-tickets/14067174
END:VEVENT
BEGIN:VEVENT
DTSTAMP:20260420T101304Z
DTSTART:20260421T030000
DTEND:20260421T070000
SUMMARY:Focus
UID:13846493@www.ticketweb.uk
TZID:Europe/London
LAST-MODIFIED:20260420T101304Z
LOCATION:The 1865\, Southampton\, 
DESCRIPTION:\nAdditional info and tickets : http://www.ticketweb.uk/event/focus-the-1865-tickets/13846493
URL:http://www.ticketweb.uk/event/focus-the-1865-tickets/13846493
END:VEVENT
BEGIN:VEVENT
DTSTAMP:20260420T101304Z
DTSTART:20260421T030000
DTEND:20260421T060000
SUMMARY:The Sophs
UID:14631183@www.ticketweb.uk
TZID:Europe/London
LAST-MODIFIED:20260420T101304Z
LOCATION:Oporto\, Leeds\, 
DESCRIPTION:\nPlus Special Guests pyncher \nAdditional info and tickets : http://www.ticketweb.uk/event/the-sophs-oporto-tickets/14631183
URL:http://www.ticketweb.uk/event/the-sophs-oporto-tickets/14631183
END:VEVENT
BEGIN:VEVENT
DTSTAMP:20260420T101304Z
DTSTART:20260421T033000
DTEND:20260421T070000
SUMMARY:Frank Turner
UID:14646123@www.ticketweb.uk
TZID:Europe/London
LAST-MODIFIED:20260420T101304Z
LOCATION:Scala\, London\, 
DESCRIPTION:\nPlus Special Guests: Dave Hause + Katacombs \nAdditional info and tickets : http://www.ticketweb.uk/event/frank-turner-scala-tickets/14646123
URL:http://www.ticketweb.uk/event/frank-turner-scala-tickets/14646123
END:VEVENT
BEGIN:VEVENT
DTSTAMP:20260420T101304Z
DTSTART:20260420T160000
DTEND:20260420T230000
SUMMARY:Top Notch Events: Yung Nation\, Texas Organix\, Dankquet
UID:14148564@www.ticketweb.com
TZID:America/Chicago
LAST-MODIFIED:20260420T101304Z
LOCATION:Three Links Deep Ellum\, Dallas\, TX
DESCRIPTION:\nAdditional info and tickets : http://www.ticketweb.com/event/top-notch-events-yung-nation-three-links-deep-ellum-tickets/14148564
URL:http://www.ticketweb.com/event/top-notch-events-yung-nation-three-links-deep-ellum-tickets/14148564
END:VEVENT
BEGIN:VEVENT
DTSTAMP:20260420T101304Z
DTSTART:20260420T180000
DTEND:20260420T180000
SUMMARY:Metal Mondays
UID:14858033@www.ticketweb.com
TZID:America/New_York
LAST-MODIFIED:20260420T101304Z
LOCATION:Tip Top Deluxe Bar & Grill\, Grand Rapids\, MI
DESCRIPTION:\nAdditional info and tickets : http://www.ticketweb.com/event/metal-mondays-tip-top-deluxe-bar-tickets/14858033
URL:http://www.ticketweb.com/event/metal-mondays-tip-top-deluxe-bar-tickets/14858033
END:VEVENT
BEGIN:VEVENT
DTSTAMP:20260420T101304Z
DTSTART:20260420T130000
DTEND:20260420T150000
SUMMARY:MEET & GREET WITH WWE SUPERSTAR TIFFANY STRATTON
UID:14856643@www.ticketweb.com
TZID:America/Los_Angeles
LAST-MODIFIED:20260420T101304Z
LOCATION:Hard Rock Cafe Las Vegas\, Las Vegas\, NV
DESCRIPTION:\nAdditional info and tickets : http://www.ticketweb.com/event/meet-greet-with-wwe-hard-rock-cafe-las-vegas-tickets/14856643
URL:http://www.ticketweb.com/event/meet-greet-with-wwe-hard-rock-cafe-las-vegas-tickets/14856643
END:VEVENT
BEGIN:VEVENT
DTSTAMP:20260420T101304Z
DTSTART:20260420T200000
DTEND:20260420T200000
SUMMARY:NERD NIGHT @ THE FOUNDRY
UID:14175134@www.ticketweb.com
TZID:America/New_York
LAST-MODIFIED:20260420T101304Z
LOCATION:The Foundry\, Cleveland\, OH
DESCRIPTION:\nAdditional info and tickets : http://www.ticketweb.com/event/nerd-night-the-foundry-the-foundry-tickets/14175134
URL:http://www.ticketweb.com/event/nerd-night-the-foundry-the-foundry-tickets/14175134
END:VEVENT
BEGIN:VEVENT
DTSTAMP:20260420T101304Z
DTSTART:20260420T201500
DTEND:20260420T220000
SUMMARY:Dazed and Confused (1993)
UID:14797833@www.ticketweb.com
TZID:America/New_York
LAST-MODIFIED:20260420T101304Z
LOCATION:Williams Center - Cinema Underground - Rutherford\, Rutherford\, NJ
DESCRIPTION:\nAdditional info and tickets : http://www.ticketweb.com/event/dazed-and-confused-1993-williams-center-cinema-tickets/14797833
URL:http://www.ticketweb.com/event/dazed-and-confused-1993-williams-center-cinema-tickets/14797833
END:VEVENT
BEGIN:VEVENT
DTSTAMP:20260420T101304Z
DTSTART:20260420T203000
DTEND:20260420T220000
SUMMARY:Up in Smoke (1978)
UID:14805543@www.ticketweb.com
TZID:America/New_York
LAST-MODIFIED:20260420T101304Z
LOCATION:Williams Center - Cinema Underground - Rutherford\, Rutherford\, NJ
DESCRIPTION:\nAdditional info and tickets : http://www.ticketweb.com/event/up-in-smoke-1978-williams-center-cinema-tickets/14805543
URL:http://www.ticketweb.com/event/up-in-smoke-1978-williams-center-cinema-tickets/14805543
END:VEVENT
BEGIN:VEVENT
DTSTAMP:20260420T101304Z
DTSTART:20260420T203000
DTEND:20260420T214500
SUMMARY:Vince Giordano and the Nighthawks
UID:13996964@www.ticketweb.com
TZID:America/New_York
LAST-MODIFIED:20260420T101304Z
LOCATION:Birdland Theater\, New York\, NY
DESCRIPTION:\nAdditional info and tickets : http://www.ticketweb.com/event/vince-giordano-and-the-nighthawks-birdland-theater-tickets/13996964
URL:http://www.ticketweb.com/event/vince-giordano-and-the-nighthawks-birdland-theater-tickets/13996964
END:VEVENT
END:VCALENDAR
